BEGIN:VCALENDAR
VERSION:2.0
PRODID:-//NC 4th of July Festival - ECPv6.15.20//NONSGML v1.0//EN
CALSCALE:GREGORIAN
METHOD:PUBLISH
X-WR-CALNAME:NC 4th of July Festival
X-ORIGINAL-URL:https://nc4thofjuly.com
X-WR-CALDESC:Events for NC 4th of July Festival
REFRESH-INTERVAL;VALUE=DURATION:PT1H
X-Robots-Tag:noindex
X-PUBLISHED-TTL:PT1H
BEGIN:VTIMEZONE
TZID:UTC
BEGIN:STANDARD
TZOFFSETFROM:+0000
TZOFFSETTO:+0000
TZNAME:UTC
DTSTART:20250101T000000
END:STANDARD
END:VTIMEZONE
BEGIN:VTIMEZONE
TZID:America/New_York
BEGIN:DAYLIGHT
TZOFFSETFROM:-0500
TZOFFSETTO:-0400
TZNAME:EDT
DTSTART:20250309T070000
END:DAYLIGHT
BEGIN:STANDARD
TZOFFSETFROM:-0400
TZOFFSETTO:-0500
TZNAME:EST
DTSTART:20251102T060000
END:STANDARD
BEGIN:DAYLIGHT
TZOFFSETFROM:-0500
TZOFFSETTO:-0400
TZNAME:EDT
DTSTART:20260308T070000
END:DAYLIGHT
BEGIN:STANDARD
TZOFFSETFROM:-0400
TZOFFSETTO:-0500
TZNAME:EST
DTSTART:20261101T060000
END:STANDARD
BEGIN:DAYLIGHT
TZOFFSETFROM:-0500
TZOFFSETTO:-0400
TZNAME:EDT
DTSTART:20270314T070000
END:DAYLIGHT
BEGIN:STANDARD
TZOFFSETFROM:-0400
TZOFFSETTO:-0500
TZNAME:EST
DTSTART:20271107T060000
END:STANDARD
END:VTIMEZONE
BEGIN:VEVENT
DTSTART;TZID=UTC:20260606T150000
DTEND;TZID=UTC:20260606T203000
DTSTAMP:20260424T102432
CREATED:20260112T220657Z
LAST-MODIFIED:20260318T174950Z
UID:935-1780758000-1780777800@nc4thofjuly.com
SUMMARY:Miss NC 4th of July Scholarship Pageant
DESCRIPTION:Join us for an evening of patriotism\, confidence\, and community pride at the 2026 Miss NC 4th of July Scholarship Pageant! \nContestants from across Brunswick County will compete in age-appropriate divisions showcasing poise\, personality\, and love for our nation in this natural pageant experience. Proceeds from the pageant benefit the NC 4th of July Festival\, helping support one of our community’s most cherished celebrations. \nCome cheer on our local contestants\, support young leaders\, and enjoy a family-friendly evening celebrating the spirit of Independence Day. \n\nOpen to the public\nFamily-friendly event\nProceeds benefit the NC 4th of July Festival\nTickets are $25\nThere will be a concessions stand at the venue\n\n\n\n\n \nPowered by
URL:https://nc4thofjuly.com/event/miss-nc-4th-of-july-scholarship-pageant/
LOCATION:CMC Building at Southport Baptist Church\, 200 North Howe Street\, Southport\, NC\, 28461\, United States
CATEGORIES:Fundraiser
ATTACH;FMTTYPE=image/png:https://nc4thofjuly.com/wp-content/uploads/2026/01/Eventeny-Header-72-x-35-in-scaled-e1769114874594.png
END:VEVENT
BEGIN:VEVENT
DTSTART;TZID=America/New_York:20260626T043000
DTEND;TZID=America/New_York:20260626T173000
DTSTAMP:20260424T102432
CREATED:20250516T173439Z
LAST-MODIFIED:20260421T180257Z
UID:585-1782448200-1782495000@nc4thofjuly.com
SUMMARY:Welcoming Reception
DESCRIPTION:Welcoming Reception for NC 4th of July Festival\nDate: Friday\, June 26\, 2026\nTime: 4:30–5:30 PM\nLocation: Southport Community Building\n\nKick off the 2026 NC 4th of July Festival with the official Welcoming Reception hosted by the Southport Woman’s Club. This annual event marks the ceremonial start of a week of patriotic celebration in Southport.\n\nThe highlight of the afternoon is the Mayor’s presentation of the “Keys to the City” to the Festival President—a symbolic moment signaling the town’s transition into full festival mode.\n\nGuests are invited to enjoy light refreshments while mingling with local officials\, organizers\, and fellow attendees. Open to the public\, this reception offers a relaxed and welcoming start to this year’s NC 4th of July Festival.
URL:https://nc4thofjuly.com/event/welcoming-reception/
LOCATION:Southport Community Building\, 223 E Bay St\, Southport\, NC\, 28461\, United States
END:VEVENT
BEGIN:VEVENT
DTSTART;TZID=America/New_York:20260626T100000
DTEND;TZID=America/New_York:20260626T160000
DTSTAMP:20260424T102432
CREATED:20250501T162958Z
LAST-MODIFIED:20260407T141157Z
UID:505-1782468000-1782489600@nc4thofjuly.com
SUMMARY:Fort Johnston-Southport Visitors Center and Museum Open
DESCRIPTION:
URL:https://nc4thofjuly.com/event/fort-johnston-southport-visitors-center-and-museum-open/
LOCATION:Fort Johnston-Southport Visitors Center and Museum\, 203 E BAY ST\, SOUTHPORT\, NC\, 28461\, United States
END:VEVENT
BEGIN:VEVENT
DTSTART;TZID=America/New_York:20260626T100000
DTEND;TZID=America/New_York:20260626T170000
DTSTAMP:20260424T102432
CREATED:20250501T163324Z
LAST-MODIFIED:20260407T182847Z
UID:508-1782468000-1782493200@nc4thofjuly.com
SUMMARY:NC Maritime Museum Open
DESCRIPTION:
URL:https://nc4thofjuly.com/event/nc-maritime-museum-open-8/
LOCATION:NC Maritime Museum at Southport\, 204 E Moore St\, SOUTHPORT\, NC\, 28461\, United States
END:VEVENT
BEGIN:VEVENT
DTSTART;TZID=America/New_York:20260626T123000
DTEND;TZID=America/New_York:20260626T153000
DTSTAMP:20260424T102432
CREATED:20250501T163603Z
LAST-MODIFIED:20260407T141831Z
UID:511-1782477000-1782487800@nc4thofjuly.com
SUMMARY:Old Brunswick Jail Open
DESCRIPTION:Hosted by the Southport Historical Society
URL:https://nc4thofjuly.com/event/old-brunswick-jail-open/
LOCATION:Old Brunswick Jail\, 318 E Nash St\, Southport\, NC\, 28461\, United States
END:VEVENT
BEGIN:VEVENT
DTSTART;TZID=America/New_York:20260626T174500
DTEND;TZID=America/New_York:20260626T174500
DTSTAMP:20260424T102432
CREATED:20250610T141645Z
LAST-MODIFIED:20260416T164012Z
UID:798-1782495900-1782495900@nc4thofjuly.com
SUMMARY:Reenactment of the First 4th of July Celebration in Southport
DESCRIPTION:Presented by the NC Maritime Museum at Southport.
URL:https://nc4thofjuly.com/event/reenactment-of-the-first-4th/
LOCATION:Fort Johnston-Southport Visitors Center and Museum\, 203 E BAY ST\, SOUTHPORT\, NC\, 28461\, United States
END:VEVENT
BEGIN:VEVENT
DTSTART;TZID=America/New_York:20260626T180000
DTEND;TZID=America/New_York:20260626T180000
DTSTAMP:20260424T102432
CREATED:20250610T141929Z
LAST-MODIFIED:20260407T160852Z
UID:801-1782496800-1782496800@nc4thofjuly.com
SUMMARY:Brunswick Summer Wind Ensemble
DESCRIPTION:
URL:https://nc4thofjuly.com/event/brunswick-summer-wind-ensemble/
LOCATION:Fort Johnston-Southport Visitors Center and Museum\, 203 E BAY ST\, SOUTHPORT\, NC\, 28461\, United States
END:VEVENT
BEGIN:VEVENT
DTSTART;TZID=America/New_York:20260627T100000
DTEND;TZID=America/New_York:20260627T160000
DTSTAMP:20260424T102432
CREATED:20250501T173236Z
LAST-MODIFIED:20260407T142533Z
UID:526-1782554400-1782576000@nc4thofjuly.com
SUMMARY:Fort Johnston-Southport Visitors Center and Museum Open
DESCRIPTION:
URL:https://nc4thofjuly.com/event/fort-johnston-southport-visitors-center-and-museum-open-2/
LOCATION:Fort Johnston-Southport Visitors Center and Museum\, 203 E BAY ST\, SOUTHPORT\, NC\, 28461\, United States
END:VEVENT
BEGIN:VEVENT
DTSTART;TZID=America/New_York:20260627T100000
DTEND;TZID=America/New_York:20260627T170000
DTSTAMP:20260424T102432
CREATED:20250501T173310Z
LAST-MODIFIED:20260407T142707Z
UID:528-1782554400-1782579600@nc4thofjuly.com
SUMMARY:NC Maritime Museum Open
DESCRIPTION:
URL:https://nc4thofjuly.com/event/nc-maritime-museum-open/
LOCATION:NC Maritime Museum at Southport\, 204 E Moore St\, SOUTHPORT\, NC\, 28461\, United States
END:VEVENT
BEGIN:VEVENT
DTSTART;TZID=America/New_York:20260627T123000
DTEND;TZID=America/New_York:20260627T153000
DTSTAMP:20260424T102432
CREATED:20250501T173643Z
LAST-MODIFIED:20260407T142919Z
UID:533-1782563400-1782574200@nc4thofjuly.com
SUMMARY:Old Brunswick Jail Open
DESCRIPTION:Hosted by the Southport Historical Society.
URL:https://nc4thofjuly.com/event/old-brunswick-jail-open-2/
LOCATION:Old Brunswick Jail\, 318 E Nash St\, Southport\, NC\, 28461\, United States
END:VEVENT
BEGIN:VEVENT
DTSTART;TZID=America/New_York:20260627T150000
DTEND;TZID=America/New_York:20260627T150000
DTSTAMP:20260424T102432
CREATED:20250501T181236Z
LAST-MODIFIED:20260407T144044Z
UID:542-1782572400-1782572400@nc4thofjuly.com
SUMMARY:41st Annual Fire Fighters Freedom Competition & Apparatus Expo
DESCRIPTION:Hosted by the Southport Fire Department.
URL:https://nc4thofjuly.com/event/41st-annual-fire-fighters-freedom-competition-apparatus-expo/
LOCATION:Southport Fire Department Downtown Substation\, 111 E Nash St\, Southport\, NC\, 28461\, United States
END:VEVENT
BEGIN:VEVENT
DTSTART;TZID=America/New_York:20260627T150000
DTEND;TZID=America/New_York:20260627T150000
DTSTAMP:20260424T102432
CREATED:20250501T181955Z
LAST-MODIFIED:20260407T143439Z
UID:546-1782572400-1782572400@nc4thofjuly.com
SUMMARY:A Tribute to ALL Our Heroes. Sea Notes Choral Society
DESCRIPTION:Patriotic Concert – A Tribute to ALL Our Heroes. Sea Notes Choral Society. Brunswick Community College\, Odell Williamson Auditorium.
URL:https://nc4thofjuly.com/event/a-tribute-to-all-our-heroes-sea-notes-choral-society/
LOCATION:Odell Williamson Auditorium\, 150 College Rd NE\, Bolivia\, NC\, 28422\, United States
END:VEVENT
BEGIN:VEVENT
DTSTART;TZID=UTC:20260627T170000
DTEND;TZID=UTC:20260627T210000
DTSTAMP:20260424T102432
CREATED:20260416T164601Z
LAST-MODIFIED:20260422T152924Z
UID:1170-1782579600-1782594000@nc4thofjuly.com
SUMMARY:Patriots Ball
DESCRIPTION:Patriot’s Ball Returns to the North Carolina Fourth of July Festival \nThe North Carolina Fourth of July Festival is proud to bring back one of its most beloved traditions — the historic Patriot’s Ball — as part of the celebration leading into America’s 250th anniversary. \nOriginally a signature event from the 1960s through the 1990s\, the Patriot’s Ball was known as an elegant waterfront gathering that brought the community together in celebration of patriotism and tradition. Now\, this exclusive event returns with a modern twist while honoring the nostalgia of the festival’s rich history. \nJoin us on Friday\, June 27 from 5:00 p.m. to 9:00 p.m. at the Southport Community Building\, which will be transformed into an unforgettable upscale experience. \nEach ticket includes: \n\nLive music\nElegant décor\nHeavy hors d’oeuvres buffet\n(1) Signature Red White & Blue Cocktail\n(1) Additional cocktail of choice\nComplimentary Beer & Wine Bar\n\nWith attendance limited to just 200 guests\, the Patriot’s Ball promises an intimate and memorable evening celebrating community\, heritage\, and the enduring spirit of America. \nTickets: $200 per personPurpose: All proceeds benefit the North Carolina Fourth of July Festival. \nFor Tickets: \n\n\n\n\n\nPowered by \nFor Sponsorships: Click Here \nThank you to our vendors:
URL:https://nc4thofjuly.com/event/patriots-ball/
LOCATION:Southport Community Building\, 223 E Bay St\, Southport\, NC\, 28461\, United States
CATEGORIES:Fundraiser
ATTACH;FMTTYPE=image/png:https://nc4thofjuly.com/wp-content/uploads/2026/04/Event-Cover-e1776869578485.png
END:VEVENT
BEGIN:VEVENT
DTSTART;TZID=America/New_York:20260628T130000
DTEND;TZID=America/New_York:20260628T143000
DTSTAMP:20260424T102432
CREATED:20250501T180554Z
LAST-MODIFIED:20260416T164726Z
UID:535-1782651600-1782657000@nc4thofjuly.com
SUMMARY:AARGH! A Pirate’s Life For Me! Melodrama & Vaudeville Fun
DESCRIPTION:Brunswick Arts Council presents: AARGH! A Pirate’s Life For Me! Melodrama & Vaudeville Fun \n 
URL:https://nc4thofjuly.com/event/aargh-a-pirates-life-for-me-melodrama-vaudeville-fun/
LOCATION:Southport Community Building\, 223 E Bay St\, Southport\, NC\, 28461\, United States
CATEGORIES:Kid Friendly
ATTACH;FMTTYPE=image/png:https://nc4thofjuly.com/wp-content/uploads/2025/05/Bruns-arts-logo.png
END:VEVENT
BEGIN:VEVENT
DTSTART;TZID=America/New_York:20260628T140000
DTEND;TZID=America/New_York:20260628T160000
DTSTAMP:20260424T102432
CREATED:20250501T182314Z
LAST-MODIFIED:20260409T153217Z
UID:549-1782655200-1782662400@nc4thofjuly.com
SUMMARY:The Bellamy Joyner Post 213- Everyday Heroes
DESCRIPTION:
URL:https://nc4thofjuly.com/event/the-bellamy-joyner-post-213/
LOCATION:530 W. Ninth St\, Southport\, NC\, 530 W. Ninth St\, Southport\, United States
END:VEVENT
BEGIN:VEVENT
DTSTART;TZID=America/New_York:20260628T150000
DTEND;TZID=America/New_York:20260628T150000
DTSTAMP:20260424T102432
CREATED:20250501T182447Z
LAST-MODIFIED:20260407T174944Z
UID:551-1782658800-1782658800@nc4thofjuly.com
SUMMARY:A Tribute to ALL Our Heroes. Sea Notes Choral Society
DESCRIPTION:Patriotic Concert – A Tribute to ALL Our Heroes. Sea Notes Choral Society. Brunswick Community College\, Odell Williamson Auditorium. 
URL:https://nc4thofjuly.com/event/a-tribute-to-all-our-heroes-sea-notes-choral-society-2/
LOCATION:Odell Williamson Auditorium\, 150 College Rd NE\, Bolivia\, NC\, 28422\, United States
END:VEVENT
BEGIN:VEVENT
DTSTART;TZID=America/New_York:20260628T170000
DTEND;TZID=America/New_York:20260628T170000
DTSTAMP:20260424T102432
CREATED:20250501T182931Z
LAST-MODIFIED:20251211T202659Z
UID:557-1782666000-1782666000@nc4thofjuly.com
SUMMARY:We the People Gospel Fest
DESCRIPTION:Featuring The Singing Kellys and Angela Primm
URL:https://nc4thofjuly.com/event/gospel-fest/
LOCATION:Franklin Square Park\, 130 E West St\, Southport\, NC\, 28461\, United States
ATTACH;FMTTYPE=image/jpeg:https://nc4thofjuly.com/wp-content/uploads/2025/05/gospel-fest.jpeg
END:VEVENT
BEGIN:VEVENT
DTSTART;TZID=America/New_York:20260628T180000
DTEND;TZID=America/New_York:20260628T180000
DTSTAMP:20260424T102432
CREATED:20250501T182832Z
LAST-MODIFIED:20260407T144704Z
UID:553-1782669600-1782669600@nc4thofjuly.com
SUMMARY:World’s Largest Ice Cream Sundae
DESCRIPTION:Hosted by the Southport Fire Department
URL:https://nc4thofjuly.com/event/worlds-largest-ice-cream/
LOCATION:Franklin Square Park\, 130 E West St\, Southport\, NC\, 28461\, United States
ATTACH;FMTTYPE=image/png:https://nc4thofjuly.com/wp-content/uploads/2025/05/Ice-Cream.png
END:VEVENT
BEGIN:VEVENT
DTSTART;TZID=America/New_York:20260629T100000
DTEND;TZID=America/New_York:20260629T160000
DTSTAMP:20260424T102432
CREATED:20250501T184603Z
LAST-MODIFIED:20260407T145306Z
UID:576-1782727200-1782748800@nc4thofjuly.com
SUMMARY:Fort Johnston-Southport Visitors Center and Museum Open
DESCRIPTION:
URL:https://nc4thofjuly.com/event/fort-johnston-southport-visitors-center-and-museum-open-4/
LOCATION:Fort Johnston-Southport Visitors Center and Museum\, 203 E BAY ST\, SOUTHPORT\, NC\, 28461\, United States
END:VEVENT
BEGIN:VEVENT
DTSTART;TZID=America/New_York:20260629T100000
DTEND;TZID=America/New_York:20260629T170000
DTSTAMP:20260424T102432
CREATED:20250501T183231Z
LAST-MODIFIED:20260407T145401Z
UID:562-1782727200-1782752400@nc4thofjuly.com
SUMMARY:NC Maritime Museum Open
DESCRIPTION:
URL:https://nc4thofjuly.com/event/nc-maritime-museum-open-2/
LOCATION:NC Maritime Museum at Southport\, 204 E Moore St\, SOUTHPORT\, NC\, 28461\, United States
END:VEVENT
BEGIN:VEVENT
DTSTART;TZID=America/New_York:20260629T100000
DTEND;TZID=America/New_York:20260629T170000
DTSTAMP:20260424T102432
CREATED:20250610T135832Z
LAST-MODIFIED:20260422T144419Z
UID:789-1782727200-1782752400@nc4thofjuly.com
SUMMARY:Celebrating Art in Southport
DESCRIPTION:10:00 AM–5:00 PM: Celebrating Art in Southport – Patriotic Art Contest & Porch Activity at Artisans Gallery on Howe\, 114 S. Howe Street. Hosted by Artisans Gallery on Howe. Presented by Southport Art Gallery Guild.  \n10:00 AM–5:00 PM: Celebrating Art in Southport – Open House & Art Activity at Franklin Square Gallery\, 130 E West Street. Hosted by Franklin Square Gallery. Presented by Southport Art Gallery Guild.  \n10:00 AM–5:00 PM: Celebrating Art in Southport – Refreshments & Kids’ Craft-Making Activity at Studio Artists of Southport\, 715 N Howe Street. Hosted by Studio Artists of Southport. Presented by Southport Art Gallery Guild.  \n10:00 AM–5:00 PM: Celebrating Art in Southport – Patriotic Sidewalk Chalk Activity at Lantana’s Gallery\, 113 S Howe Street. Hosted by Lantana’s Gallery. Presented by Southport Art Gallery Guild. 
URL:https://nc4thofjuly.com/event/celebrating-art-in-southport/
ATTACH;FMTTYPE=image/png:https://nc4thofjuly.com/wp-content/uploads/2025/06/Celebrating-Art-in-Southport.png
END:VEVENT
BEGIN:VEVENT
DTSTART;TZID=America/New_York:20260630T100000
DTEND;TZID=America/New_York:20260630T160000
DTSTAMP:20260424T102432
CREATED:20250501T183204Z
LAST-MODIFIED:20260407T145547Z
UID:560-1782813600-1782835200@nc4thofjuly.com
SUMMARY:Fort Johnston-Southport Visitors Center and Museum Open
DESCRIPTION:
URL:https://nc4thofjuly.com/event/fort-johnston-southport-visitors-center-and-museum-open-3/
LOCATION:Fort Johnston-Southport Visitors Center and Museum\, 203 E BAY ST\, SOUTHPORT\, NC\, 28461\, United States
END:VEVENT
BEGIN:VEVENT
DTSTART;TZID=America/New_York:20260630T100000
DTEND;TZID=America/New_York:20260630T170000
DTSTAMP:20260424T102432
CREATED:20250501T184641Z
LAST-MODIFIED:20260407T145723Z
UID:578-1782813600-1782838800@nc4thofjuly.com
SUMMARY:NC Maritime Museum Open
DESCRIPTION:
URL:https://nc4thofjuly.com/event/nc-maritime-museum-open-3/
LOCATION:NC Maritime Museum at Southport\, 204 E Moore St\, SOUTHPORT\, NC\, 28461\, United States
END:VEVENT
BEGIN:VEVENT
DTSTART;TZID=America/New_York:20260630T170000
DTEND;TZID=America/New_York:20260630T190000
DTSTAMP:20260424T102432
CREATED:20250501T173455Z
LAST-MODIFIED:20260416T162227Z
UID:530-1782838800-1782846000@nc4thofjuly.com
SUMMARY:The Bellamy Joyner Post 213- Everyday Heroes
DESCRIPTION:
URL:https://nc4thofjuly.com/event/the-bellamy-joyner-post-213-2/
LOCATION:530 W. Ninth St\, Southport\, NC\, 530 W. Ninth St\, Southport\, United States
END:VEVENT
BEGIN:VEVENT
DTSTART;TZID=America/New_York:20260701T070000
DTEND;TZID=America/New_York:20260701T210000
DTSTAMP:20260424T102432
CREATED:20250501T183723Z
LAST-MODIFIED:20260407T175852Z
UID:564-1782889200-1782939600@nc4thofjuly.com
SUMMARY:Beach Day
DESCRIPTION:Hosted by Oak Island Parks and Recreation.\nAgenda: \n7:00 AM: Beach Day – Contest Registration at the Middleton Park Rec tent. Hosted by Oak Island Parks and Recreation. \n\n8:00 AM: Beach Day – Volleyball at the Middleton Park Complex. Hosted by Oak Island Parks and Recreation. \n\n8:30 AM: Beach Day – Sandcastle Contest\, 46th Street SE & Beach Drive Access. Hosted by Oak Island Parks and Recreation. \n\n9:00 AM: Beach Day – Horseshoes at Middleton Park (Register at field by Softball Field). Hosted by Oak Island Parks and Recreation. \n\n9:30 AM: Beach Day – Stars\, Stripes and Snouts Dog Costume Contest at Middleton Park Complex Stage. Hosted by Oak Island Parks and Recreation. \n\n10:00 AM: Beach Day – Cornhole at Middleton Park Complex. Hosted by Oak Island Parks and Recreation. \n\n10:30 AM: Beach Day – Freedom Scoot Baby Crawling Race at Middleton Park Complex Stage. Hosted by Oak Island Parks and Recreation. \n\n11:00 AM: Beach Day – Splash for the Stars Pre-K School Age Reusable Balloon Toss at Middleton Park Complex Stage. Hosted by Oak Island Parks and Recreation. \n\n11:00 AM–2:00 PM: Beach Day – Inflatables at Middleton Park. Hosted by Oak Island Parks and Recreation. \n11:00 AM-2:00 PM: Cape Fear Radio MCing at Middleton Park. \n  \n11:00 AM-2:00 PM: Large Field Games. Hosted by Oak Island Parks and Recreation. \n  \n11:30 AM: Red\, White and Blue Bucket Relay (6th-12th grade & 18+ Divisions) at Middleton Park Complex Stage. \n  \n12:00 PM: Mic Drop for America Karaoke Contest. Registration Required. Hosted by Oak Island Parks and Recreation. \n  \n1:00 PM: Liberty Looks Costume Contest at Middleton Park Complex Stage. Registration Required. Hosted by Oak Island Parks and Recreation. \n2:00 PM: 250th Activity Hosted by Oak Island Parks and Recreation. \n\n5:30 PM: Welcoming Ceremony\, Oak Island. Middleton Park Complex. \n\n6:00 PM: Beach Day Concert – Extradinaires at Middleton Park Complex Stage. Hosted by the Town of Oak Island. \n\n9:00 PM: Beach Day – Town of Oak Island Anniversary Fireworks. Oak Island Pier. Hosted by the Town of Oak Island.
URL:https://nc4thofjuly.com/event/beach-day/
LOCATION:Middleton Park\, 102 SE 47th St\, Oak Island\, NC\, 28465\, United States
CATEGORIES:Kid Friendly
ATTACH;FMTTYPE=image/png:https://nc4thofjuly.com/wp-content/uploads/2025/05/Beach-Day.png
END:VEVENT
BEGIN:VEVENT
DTSTART;TZID=America/New_York:20260701T100000
DTEND;TZID=America/New_York:20260701T160000
DTSTAMP:20260424T102432
CREATED:20250516T173529Z
LAST-MODIFIED:20260407T182202Z
UID:587-1782900000-1782921600@nc4thofjuly.com
SUMMARY:Fort Johnston-Southport Visitors Center and Museum Open
DESCRIPTION:
URL:https://nc4thofjuly.com/event/fort-johnston-southport-visitors-center-and-museum-open-5/
LOCATION:Fort Johnston-Southport Visitors Center and Museum\, 203 E BAY ST\, SOUTHPORT\, NC\, 28461\, United States
END:VEVENT
BEGIN:VEVENT
DTSTART;TZID=America/New_York:20260701T100000
DTEND;TZID=America/New_York:20260701T170000
DTSTAMP:20260424T102432
CREATED:20250501T163812Z
LAST-MODIFIED:20260407T182754Z
UID:514-1782900000-1782925200@nc4thofjuly.com
SUMMARY:NC Maritime Museum Open
DESCRIPTION:
URL:https://nc4thofjuly.com/event/nc-maritime-museum-open-7/
LOCATION:NC Maritime Museum at Southport\, 204 E Moore St\, SOUTHPORT\, NC\, 28461\, United States
END:VEVENT
BEGIN:VEVENT
DTSTART;TZID=America/New_York:20260701T123000
DTEND;TZID=America/New_York:20260701T153000
DTSTAMP:20260424T102432
CREATED:20250501T185105Z
LAST-MODIFIED:20260407T180916Z
UID:580-1782909000-1782919800@nc4thofjuly.com
SUMMARY:Old Brunswick Jail Open
DESCRIPTION:Hosted by the Southport Historical Society
URL:https://nc4thofjuly.com/event/old-brunswick-jail-open-6/
LOCATION:Old Brunswick Jail\, 318 E Nash St\, Southport\, NC\, 28461\, United States
END:VEVENT
BEGIN:VEVENT
DTSTART;TZID=UTC:20260701T171500
DTEND;TZID=UTC:20260701T193000
DTSTAMP:20260424T102432
CREATED:20260219T185038Z
LAST-MODIFIED:20260417T155048Z
UID:1036-1782926100-1782934200@nc4thofjuly.com
SUMMARY:Independence Eve: Colonial Food & History
DESCRIPTION:Independence Eve: Colonial Food & History\n📅 July 1\, 2026\n📍 Southport Community Building\n🕰 Doors Open: 5:15 PM\n🎟 Tickets: $35 | Bulk 10: $350 | Buffet-Style Dinner \n\nHosted by those with gratitude for our nation. Celebrate the spirit of America 250 with an unforgettable evening on Southport’s waterfront\, where history\, food\, and music come together. This special Colonial Food & History event invites guests to step back in time and experience the flavors and traditions that shaped early America. \nGuests will enjoy a thoughtfully curated\, colonial-inspired buffet designed by historian Desiree Bridge\, while engaging presentations throughout the evening bring the past to life. Desiree will be joined by historians Jim McKee and John Bennett\, who will lead a lively and informative discussion exploring the ingredients\, cooking methods\, cultural influences\, and music of colonial America. Discover how food connected communities\, reflected social customs\, and even played a role in the colonists’ fight for independence. \nSet against the scenic backdrop of downtown Southport\, this immersive experience blends history and hospitality in a fun\, engaging atmosphere. Perfect for history enthusiasts\, food lovers\, and anyone looking to celebrate America’s 250th anniversary in a unique and meaningful way\, this intimate event offers a rich journey into the past. \n\n\n\n\n \nPowered by
URL:https://nc4thofjuly.com/event/independence-eve-colonial-food-history/
LOCATION:Southport Community Building\, 223 E Bay St\, Southport\, NC\, 28461\, United States
CATEGORIES:Fundraiser
ATTACH;FMTTYPE=image/png:https://nc4thofjuly.com/wp-content/uploads/2026/02/NC-4th-Independance-Eve-Flyer-2.png
END:VEVENT
BEGIN:VEVENT
DTSTART;TZID=America/New_York:20260701T173000
DTEND;TZID=America/New_York:20260701T173000
DTSTAMP:20260424T102432
CREATED:20250501T183933Z
LAST-MODIFIED:20260407T155823Z
UID:568-1782927000-1782927000@nc4thofjuly.com
SUMMARY:Welcoming Ceremony - Oak Island
DESCRIPTION:Hosted by the Town of Oak Island.
URL:https://nc4thofjuly.com/event/welcoming-ceremony-oak-island/
LOCATION:Middleton Park\, 102 SE 47th St\, Oak Island\, NC\, 28465\, United States
ATTACH;FMTTYPE=image/png:https://nc4thofjuly.com/wp-content/uploads/2025/05/Welcome-Ceremony-OKI.png
END:VEVENT
END:VCALENDAR